Package: TCGAWorkflowData Version: 1.33.0 Command: /home/biocbuild/bbs-3.22-bioc/R/bin/R CMD check --install=check:TCGAWorkflowData.install-out.txt --library=/home/biocbuild/bbs-3.22-bioc/R/site-library --timings TCGAWorkflowData_1.33.0.tar.gz StartedAt: 2025-07-10 13:07:47 -0400 (Thu, 10 Jul 2025) EndedAt: 2025-07-10 13:15:32 -0400 (Thu, 10 Jul 2025) EllapsedTime: 465.6 seconds RetCode: 0 Status: OK CheckDir: TCGAWorkflowData.Rcheck Warnings: 0