Package: TCGAWorkflowData Version: 1.33.0 Command: /home/biocbuild/bbs-3.22-bioc/R/bin/R CMD INSTALL TCGAWorkflowData StartedAt: 2025-07-08 11:03:47 -0400 (Tue, 08 Jul 2025) EndedAt: 2025-07-08 11:04:48 -0400 (Tue, 08 Jul 2025) EllapsedTime: 60.9 seconds RetCode: 0 Status: OK