Package: TCGAbiolinksGUI.data Version: 1.31.0 Command: /home/biocbuild/bbs-3.23-bioc/R/bin/R CMD build --keep-empty-dirs --no-resave-data TCGAbiolinksGUI.data StartedAt: 2025-11-06 11:44:38 -0500 (Thu, 06 Nov 2025) EndedAt: 2025-11-06 11:45:10 -0500 (Thu, 06 Nov 2025) EllapsedTime: 31.9 seconds RetCode: 0 Status: OK PackageFile: TCGAbiolinksGUI.data_1.31.0.tar.gz PackageFileSize: 21.86 MiB