Package: TCGAcrcmRNA Version: 1.29.0 Maintainer: Claudio Isella MaintainerEmail: claudio.isella at ircc.it git_url: https://git.bioconductor.org/packages/TCGAcrcmRNA git_branch: devel git_last_commit: 0665a3b git_last_commit_date: 2025-04-15 09:55:54 -0400 (Tue, 15 Apr 2025)