Package: TCGAcrcmRNA Version: 1.31.0 Command: /home/biocbuild/bbs-3.23-bioc/R/bin/R CMD build --keep-empty-dirs --no-resave-data TCGAcrcmRNA StartedAt: 2025-11-04 11:45:51 -0500 (Tue, 04 Nov 2025) EndedAt: 2025-11-04 11:46:02 -0500 (Tue, 04 Nov 2025) EllapsedTime: 10.6 seconds RetCode: 0 Status: OK PackageFile: TCGAcrcmRNA_1.31.0.tar.gz PackageFileSize: 35.3 MiB