Package: TENET.ExperimentHub Version: 1.1.0 Command: /home/biocbuild/bbs-3.22-bioc/R/bin/R CMD build --keep-empty-dirs --no-resave-data TENET.ExperimentHub StartedAt: 2025-07-15 11:44:08 -0400 (Tue, 15 Jul 2025) EndedAt: 2025-07-15 11:44:59 -0400 (Tue, 15 Jul 2025) EllapsedTime: 50.6 seconds RetCode: 0 Status: OK PackageFile: TENET.ExperimentHub_1.1.0.tar.gz PackageFileSize: 244.6 KiB