Package: TENET.ExperimentHub Version: 1.1.0 Command: /home/biocbuild/bbs-3.22-bioc/R/bin/R CMD INSTALL TENET.ExperimentHub StartedAt: 2025-07-15 10:58:58 -0400 (Tue, 15 Jul 2025) EndedAt: 2025-07-15 10:59:18 -0400 (Tue, 15 Jul 2025) EllapsedTime: 20.1 seconds RetCode: 0 Status: OK