Package: TENxBUSData Version: 1.25.0 Command: /home/biocbuild/bbs-3.23-bioc/R/bin/R CMD INSTALL TENxBUSData StartedAt: 2025-11-06 10:56:59 -0500 (Thu, 06 Nov 2025) EndedAt: 2025-11-06 10:57:12 -0500 (Thu, 06 Nov 2025) EllapsedTime: 13.2 seconds RetCode: 0 Status: OK