Package: TENxBUSData Version: 1.23.0 Command: /home/biocbuild/bbs-3.22-bioc/R/bin/R CMD INSTALL TENxBUSData StartedAt: 2025-07-08 10:57:08 -0400 (Tue, 08 Jul 2025) EndedAt: 2025-07-08 10:57:20 -0400 (Tue, 08 Jul 2025) EllapsedTime: 12.4 seconds RetCode: 0 Status: OK