Package: TENxBrainData Version: 1.31.0 Command: /home/biocbuild/bbs-3.23-bioc/R/bin/R CMD build --keep-empty-dirs --no-resave-data TENxBrainData StartedAt: 2025-11-06 11:45:03 -0500 (Thu, 06 Nov 2025) EndedAt: 2025-11-06 11:47:17 -0500 (Thu, 06 Nov 2025) EllapsedTime: 133.7 seconds RetCode: 0 Status: OK PackageFile: TENxBrainData_1.31.0.tar.gz PackageFileSize: 437.7 KiB