Package: TENxBrainData Version: 1.31.0 Command: /home/biocbuild/bbs-3.23-bioc/R/bin/R CMD INSTALL TENxBrainData StartedAt: 2025-11-06 10:59:01 -0500 (Thu, 06 Nov 2025) EndedAt: 2025-11-06 10:59:31 -0500 (Thu, 06 Nov 2025) EllapsedTime: 30.0 seconds RetCode: 0 Status: OK