Package: TENxBrainData Version: 1.29.0 Command: /home/biocbuild/bbs-3.22-bioc/R/bin/R CMD INSTALL TENxBrainData StartedAt: 2025-07-08 10:59:03 -0400 (Tue, 08 Jul 2025) EndedAt: 2025-07-08 10:59:33 -0400 (Tue, 08 Jul 2025) EllapsedTime: 29.9 seconds RetCode: 0 Status: OK