Package: TENxPBMCData Version: 1.27.0 Command: /home/biocbuild/bbs-3.22-bioc/R/bin/R CMD build --keep-empty-dirs --no-resave-data TENxPBMCData StartedAt: 2025-07-08 11:45:03 -0400 (Tue, 08 Jul 2025) EndedAt: 2025-07-08 11:45:56 -0400 (Tue, 08 Jul 2025) EllapsedTime: 52.9 seconds RetCode: 0 Status: OK PackageFile: TENxPBMCData_1.27.0.tar.gz PackageFileSize: 299.6 KiB