Package: TENxVisiumData Version: 1.19.0 Command: /home/biocbuild/bbs-3.23-bioc/R/bin/R CMD INSTALL TENxVisiumData StartedAt: 2025-11-11 10:58:55 -0500 (Tue, 11 Nov 2025) EndedAt: 2025-11-11 10:59:25 -0500 (Tue, 11 Nov 2025) EllapsedTime: 29.7 seconds RetCode: 0 Status: OK