Package: TENxVisiumData Version: 1.17.0 Command: /home/biocbuild/bbs-3.22-bioc/R/bin/R CMD INSTALL TENxVisiumData StartedAt: 2025-07-10 10:58:55 -0400 (Thu, 10 Jul 2025) EndedAt: 2025-07-10 10:59:31 -0400 (Thu, 10 Jul 2025) EllapsedTime: 36.3 seconds RetCode: 0 Status: OK