Package: TENxXeniumData Version: 1.7.0 Command: /home/biocbuild/bbs-3.23-bioc/R/bin/R CMD build --keep-empty-dirs --no-resave-data TENxXeniumData StartedAt: 2025-11-04 11:46:41 -0500 (Tue, 04 Nov 2025) EndedAt: 2025-11-04 11:49:20 -0500 (Tue, 04 Nov 2025) EllapsedTime: 159.4 seconds RetCode: 0 Status: OK PackageFile: TENxXeniumData_1.7.0.tar.gz PackageFileSize: 224.9 KiB