Package: TENxXeniumData Version: 1.7.0 Command: /home/biocbuild/bbs-3.23-bioc/R/bin/R CMD INSTALL TENxXeniumData StartedAt: 2025-11-04 11:03:14 -0500 (Tue, 04 Nov 2025) EndedAt: 2025-11-04 11:04:08 -0500 (Tue, 04 Nov 2025) EllapsedTime: 54.1 seconds RetCode: 0 Status: OK