Package: TENxXeniumData Version: 1.5.0 Command: /home/biocbuild/bbs-3.22-bioc/R/bin/R CMD build --keep-empty-dirs --no-resave-data TENxXeniumData StartedAt: 2025-07-08 11:45:24 -0400 (Tue, 08 Jul 2025) EndedAt: 2025-07-08 11:48:09 -0400 (Tue, 08 Jul 2025) EllapsedTime: 164.9 seconds RetCode: 0 Status: OK PackageFile: TENxXeniumData_1.5.0.tar.gz PackageFileSize: 224.9 KiB