Package: TENxXeniumData Version: 1.5.0 Command: /home/biocbuild/bbs-3.22-bioc/R/bin/R CMD INSTALL TENxXeniumData StartedAt: 2025-07-08 11:02:53 -0400 (Tue, 08 Jul 2025) EndedAt: 2025-07-08 11:03:47 -0400 (Tue, 08 Jul 2025) EllapsedTime: 53.9 seconds RetCode: 0 Status: OK