Package: TMExplorer Version: 1.21.0 Command: /home/biocbuild/bbs-3.23-bioc/R/bin/R CMD build --keep-empty-dirs --no-resave-data TMExplorer StartedAt: 2025-11-04 11:47:24 -0500 (Tue, 04 Nov 2025) EndedAt: 2025-11-04 11:48:12 -0500 (Tue, 04 Nov 2025) EllapsedTime: 48.1 seconds RetCode: 0 Status: OK PackageFile: TMExplorer_1.21.0.tar.gz PackageFileSize: 233.1 KiB