Package: TMExplorer Version: 1.19.0 Command: /home/biocbuild/bbs-3.22-bioc/R/bin/R CMD build --keep-empty-dirs --no-resave-data TMExplorer StartedAt: 2025-07-08 11:46:21 -0400 (Tue, 08 Jul 2025) EndedAt: 2025-07-08 11:47:07 -0400 (Tue, 08 Jul 2025) EllapsedTime: 45.7 seconds RetCode: 0 Status: OK PackageFile: TMExplorer_1.19.0.tar.gz PackageFileSize: 233.1 KiB