Package: TMExplorer Version: 1.19.0 Command: /home/biocbuild/bbs-3.22-bioc/R/bin/R CMD INSTALL TMExplorer StartedAt: 2025-07-08 10:59:41 -0400 (Tue, 08 Jul 2025) EndedAt: 2025-07-08 11:00:05 -0400 (Tue, 08 Jul 2025) EllapsedTime: 24.7 seconds RetCode: 0 Status: OK