Package: TabulaMurisData Version: 1.29.0 Command: /home/biocbuild/bbs-3.23-bioc/R/bin/R CMD build --keep-empty-dirs --no-resave-data TabulaMurisData StartedAt: 2025-11-18 11:45:23 -0500 (Tue, 18 Nov 2025) EndedAt: 2025-11-18 11:46:13 -0500 (Tue, 18 Nov 2025) EllapsedTime: 50.3 seconds RetCode: 0 Status: OK PackageFile: TabulaMurisData_1.29.0.tar.gz PackageFileSize: 220 KiB