Package: TabulaMurisData Version: 1.27.0 Command: /home/biocbuild/bbs-3.22-bioc/R/bin/R CMD build --keep-empty-dirs --no-resave-data TabulaMurisData StartedAt: 2025-07-10 11:44:26 -0400 (Thu, 10 Jul 2025) EndedAt: 2025-07-10 11:45:17 -0400 (Thu, 10 Jul 2025) EllapsedTime: 51.5 seconds RetCode: 0 Status: OK PackageFile: TabulaMurisData_1.27.0.tar.gz PackageFileSize: 220 KiB