Package: TabulaMurisData Version: 1.27.0 Command: /home/biocbuild/bbs-3.22-bioc/R/bin/R CMD INSTALL TabulaMurisData StartedAt: 2025-07-10 10:57:16 -0400 (Thu, 10 Jul 2025) EndedAt: 2025-07-10 10:57:29 -0400 (Thu, 10 Jul 2025) EllapsedTime: 13.6 seconds RetCode: 0 Status: OK