Package: TargetScoreData Version: 1.45.0 Maintainer: Yue Li MaintainerEmail: yueli at cs.toronto.edu git_url: https://git.bioconductor.org/packages/TargetScoreData git_branch: devel git_last_commit: 6bd5166 git_last_commit_date: 2025-04-15 09:23:33 -0400 (Tue, 15 Apr 2025)