Package: TargetScoreData Version: 1.45.0 Command: /home/biocbuild/bbs-3.22-bioc/R/bin/R CMD check --install=check:TargetScoreData.install-out.txt --library=/home/biocbuild/bbs-3.22-bioc/R/site-library --timings TargetScoreData_1.45.0.tar.gz StartedAt: 2025-07-15 13:04:53 -0400 (Tue, 15 Jul 2025) EndedAt: 2025-07-15 13:05:37 -0400 (Tue, 15 Jul 2025) EllapsedTime: 44.4 seconds RetCode: 0 Status: OK CheckDir: TargetScoreData.Rcheck Warnings: 0