Package: TargetScoreData Version: 1.45.0 Command: /home/biocbuild/bbs-3.22-bioc/R/bin/R CMD INSTALL TargetScoreData StartedAt: 2025-07-08 10:55:25 -0400 (Tue, 08 Jul 2025) EndedAt: 2025-07-08 10:55:27 -0400 (Tue, 08 Jul 2025) EllapsedTime: 2.2 seconds RetCode: 0 Status: OK