Package: TimerQuant Version: 1.39.0 Command: /home/biocbuild/bbs-3.22-bioc/R/bin/R CMD INSTALL TimerQuant StartedAt: 2025-07-08 10:56:36 -0400 (Tue, 08 Jul 2025) EndedAt: 2025-07-08 10:56:42 -0400 (Tue, 08 Jul 2025) EllapsedTime: 5.1 seconds RetCode: 0 Status: OK