Package: TransOmicsData Version: 1.7.0 Command: /home/biocbuild/bbs-3.23-bioc/R/bin/R CMD INSTALL TransOmicsData StartedAt: 2025-10-30 10:56:46 -0400 (Thu, 30 Oct 2025) EndedAt: 2025-10-30 10:56:50 -0400 (Thu, 30 Oct 2025) EllapsedTime: 3.7 seconds RetCode: 0 Status: OK