Package: TransOmicsData Version: 1.5.0 Command: /home/biocbuild/bbs-3.22-bioc/R/bin/R CMD INSTALL TransOmicsData StartedAt: 2025-07-08 10:56:43 -0400 (Tue, 08 Jul 2025) EndedAt: 2025-07-08 10:56:47 -0400 (Tue, 08 Jul 2025) EllapsedTime: 4.0 seconds RetCode: 0 Status: OK