Package: TumourMethData Version: 1.9.0 Command: /home/biocbuild/bbs-3.23-bioc/R/bin/R CMD build --keep-empty-dirs --no-resave-data TumourMethData StartedAt: 2025-11-06 11:47:09 -0500 (Thu, 06 Nov 2025) EndedAt: 2025-11-06 11:47:52 -0500 (Thu, 06 Nov 2025) EllapsedTime: 42.3 seconds RetCode: 0 Status: OK PackageFile: TumourMethData_1.9.0.tar.gz PackageFileSize: 20.67 KiB