Package: TumourMethData Version: 1.7.0 Command: /home/biocbuild/bbs-3.22-bioc/R/bin/R CMD build --keep-empty-dirs --no-resave-data TumourMethData StartedAt: 2025-07-08 11:46:48 -0400 (Tue, 08 Jul 2025) EndedAt: 2025-07-08 11:47:31 -0400 (Tue, 08 Jul 2025) EllapsedTime: 43.0 seconds RetCode: 0 Status: OK PackageFile: TumourMethData_1.7.0.tar.gz PackageFileSize: 20.17 KiB