Package: TumourMethData Version: 1.7.0 Command: /home/biocbuild/bbs-3.22-bioc/R/bin/R CMD INSTALL TumourMethData StartedAt: 2025-07-08 10:58:19 -0400 (Tue, 08 Jul 2025) EndedAt: 2025-07-08 10:58:46 -0400 (Tue, 08 Jul 2025) EllapsedTime: 26.5 seconds RetCode: 0 Status: OK