Package: VariantToolsData Version: 1.33.0 Command: /home/biocbuild/bbs-3.22-bioc/R/bin/R CMD build --keep-empty-dirs --no-resave-data VariantToolsData StartedAt: 2025-07-08 11:47:07 -0400 (Tue, 08 Jul 2025) EndedAt: 2025-07-08 11:48:00 -0400 (Tue, 08 Jul 2025) EllapsedTime: 52.7 seconds RetCode: 0 Status: OK PackageFile: VariantToolsData_1.33.0.tar.gz PackageFileSize: 200.7 MiB