Package: VariantToolsData Version: 1.33.0 Command: /home/biocbuild/bbs-3.22-bioc/R/bin/R CMD check --install=check:VariantToolsData.install-out.txt --library=/home/biocbuild/bbs-3.22-bioc/R/site-library --timings VariantToolsData_1.33.0.tar.gz StartedAt: 2025-07-10 13:13:21 -0400 (Thu, 10 Jul 2025) EndedAt: 2025-07-10 13:17:30 -0400 (Thu, 10 Jul 2025) EllapsedTime: 248.5 seconds RetCode: 0 Status: OK CheckDir: VariantToolsData.Rcheck Warnings: 0