Package: VectraPolarisData Version: 1.15.0 Command: /home/biocbuild/bbs-3.23-bioc/R/bin/R CMD build --keep-empty-dirs --no-resave-data VectraPolarisData StartedAt: 2025-11-04 11:48:25 -0500 (Tue, 04 Nov 2025) EndedAt: 2025-11-04 11:49:59 -0500 (Tue, 04 Nov 2025) EllapsedTime: 94.2 seconds RetCode: 0 Status: OK PackageFile: VectraPolarisData_1.15.0.tar.gz PackageFileSize: 794.1 KiB