Package: VectraPolarisData Version: 1.15.0 Command: /home/biocbuild/bbs-3.23-bioc/R/bin/R CMD INSTALL VectraPolarisData StartedAt: 2025-11-04 11:00:33 -0500 (Tue, 04 Nov 2025) EndedAt: 2025-11-04 11:01:02 -0500 (Tue, 04 Nov 2025) EllapsedTime: 29.7 seconds RetCode: 0 Status: OK