Package: VectraPolarisData Version: 1.13.0 Command: /home/biocbuild/bbs-3.22-bioc/R/bin/R CMD check --install=check:VectraPolarisData.install-out.txt --library=/home/biocbuild/bbs-3.22-bioc/R/site-library --timings VectraPolarisData_1.13.0.tar.gz StartedAt: 2025-07-10 13:13:41 -0400 (Thu, 10 Jul 2025) EndedAt: 2025-07-10 13:18:22 -0400 (Thu, 10 Jul 2025) EllapsedTime: 281.3 seconds RetCode: 0 Status: OK CheckDir: VectraPolarisData.Rcheck Warnings: 0