Package: WES.1KG.WUGSC Version: 1.41.0 Command: /home/biocbuild/bbs-3.22-bioc/R/bin/R CMD build --keep-empty-dirs --no-resave-data WES.1KG.WUGSC StartedAt: 2025-07-10 11:48:30 -0400 (Thu, 10 Jul 2025) EndedAt: 2025-07-10 11:48:55 -0400 (Thu, 10 Jul 2025) EllapsedTime: 25.5 seconds RetCode: 0 Status: OK PackageFile: WES.1KG.WUGSC_1.41.0.tar.gz PackageFileSize: 373.3 MiB