Package: WES.1KG.WUGSC Version: 1.41.0 Command: /home/biocbuild/bbs-3.22-bioc/R/bin/R CMD INSTALL WES.1KG.WUGSC StartedAt: 2025-07-10 10:55:53 -0400 (Thu, 10 Jul 2025) EndedAt: 2025-07-10 10:55:58 -0400 (Thu, 10 Jul 2025) EllapsedTime: 4.5 seconds RetCode: 0 Status: OK