Package: WGSmapp Version: 1.21.0 Command: /home/biocbuild/bbs-3.22-bioc/R/bin/R CMD build --keep-empty-dirs --no-resave-data WGSmapp StartedAt: 2025-07-10 11:48:42 -0400 (Thu, 10 Jul 2025) EndedAt: 2025-07-10 11:49:01 -0400 (Thu, 10 Jul 2025) EllapsedTime: 18.4 seconds RetCode: 0 Status: OK PackageFile: WGSmapp_1.21.0.tar.gz PackageFileSize: 195.7 MiB