Package: WeberDivechaLCdata Version: 1.13.0 Command: /home/biocbuild/bbs-3.23-bioc/R/bin/R CMD build --keep-empty-dirs --no-resave-data WeberDivechaLCdata StartedAt: 2025-11-20 11:50:16 -0500 (Thu, 20 Nov 2025) EndedAt: 2025-11-20 11:51:58 -0500 (Thu, 20 Nov 2025) EllapsedTime: 102.6 seconds RetCode: 0 Status: OK PackageFile: WeberDivechaLCdata_1.13.0.tar.gz PackageFileSize: 223.6 KiB