Package: WeberDivechaLCdata Version: 1.11.0 Command: /home/biocbuild/bbs-3.22-bioc/R/bin/R CMD build --keep-empty-dirs --no-resave-data WeberDivechaLCdata StartedAt: 2025-07-10 11:48:24 -0400 (Thu, 10 Jul 2025) EndedAt: 2025-07-10 11:50:08 -0400 (Thu, 10 Jul 2025) EllapsedTime: 104.2 seconds RetCode: 0 Status: OK PackageFile: WeberDivechaLCdata_1.11.0.tar.gz PackageFileSize: 223.6 KiB