Package: WeberDivechaLCdata Version: 1.11.0 Command: /home/biocbuild/bbs-3.22-bioc/R/bin/R CMD INSTALL WeberDivechaLCdata StartedAt: 2025-07-10 10:58:20 -0400 (Thu, 10 Jul 2025) EndedAt: 2025-07-10 10:58:54 -0400 (Thu, 10 Jul 2025) EllapsedTime: 34.5 seconds RetCode: 0 Status: OK