Package: adductData Version: 1.25.0 Command: /home/biocbuild/bbs-3.22-bioc/R/bin/R CMD build --keep-empty-dirs --no-resave-data adductData StartedAt: 2025-07-08 11:07:24 -0400 (Tue, 08 Jul 2025) EndedAt: 2025-07-08 11:07:35 -0400 (Tue, 08 Jul 2025) EllapsedTime: 11.4 seconds RetCode: 0 Status: OK PackageFile: adductData_1.25.0.tar.gz PackageFileSize: 7.568 KiB