Package: adductData Version: 1.25.0 Command: /home/biocbuild/bbs-3.22-bioc/R/bin/R CMD INSTALL adductData StartedAt: 2025-07-08 10:57:15 -0400 (Tue, 08 Jul 2025) EndedAt: 2025-07-08 10:57:25 -0400 (Tue, 08 Jul 2025) EllapsedTime: 9.6 seconds RetCode: 0 Status: OK