Package: affycompData Version: 1.47.0 Command: /home/biocbuild/bbs-3.22-bioc/R/bin/R CMD build --keep-empty-dirs --no-resave-data affycompData StartedAt: 2025-07-10 11:08:04 -0400 (Thu, 10 Jul 2025) EndedAt: 2025-07-10 11:08:11 -0400 (Thu, 10 Jul 2025) EllapsedTime: 7.2 seconds RetCode: 0 Status: OK PackageFile: affycompData_1.47.0.tar.gz PackageFileSize: 68.61 MiB