Package: affydata Version: 1.57.0 Command: /home/biocbuild/bbs-3.22-bioc/R/bin/R CMD build --keep-empty-dirs --no-resave-data affydata StartedAt: 2025-07-10 11:08:04 -0400 (Thu, 10 Jul 2025) EndedAt: 2025-07-10 11:08:28 -0400 (Thu, 10 Jul 2025) EllapsedTime: 24.3 seconds RetCode: 0 Status: OK PackageFile: affydata_1.57.0.tar.gz PackageFileSize: 12.21 MiB