Package: affydata Version: 1.57.0 Command: /home/biocbuild/bbs-3.22-bioc/R/bin/R CMD INSTALL affydata StartedAt: 2025-07-10 10:57:35 -0400 (Thu, 10 Jul 2025) EndedAt: 2025-07-10 10:57:39 -0400 (Thu, 10 Jul 2025) EllapsedTime: 3.4 seconds RetCode: 0 Status: OK